BEGIN:VCALENDAR
VERSION:2.0
PRODID:-//EWPAC - ECPv6.15.20//NONSGML v1.0//EN
CALSCALE:GREGORIAN
METHOD:PUBLISH
X-WR-CALNAME:EWPAC
X-ORIGINAL-URL:https://edgewoodpac.ca
X-WR-CALDESC:Events for EWPAC
REFRESH-INTERVAL;VALUE=DURATION:PT1H
X-Robots-Tag:noindex
X-PUBLISHED-TTL:PT1H
BEGIN:VTIMEZONE
TZID:America/Vancouver
BEGIN:DAYLIGHT
TZOFFSETFROM:-0800
TZOFFSETTO:-0700
TZNAME:PDT
DTSTART:20250309T100000
END:DAYLIGHT
BEGIN:STANDARD
TZOFFSETFROM:-0700
TZOFFSETTO:-0800
TZNAME:PST
DTSTART:20251102T090000
END:STANDARD
BEGIN:DAYLIGHT
TZOFFSETFROM:-0800
TZOFFSETTO:-0700
TZNAME:PDT
DTSTART:20260308T100000
END:DAYLIGHT
BEGIN:STANDARD
TZOFFSETFROM:-0700
TZOFFSETTO:-0800
TZNAME:PST
DTSTART:20261101T090000
END:STANDARD
BEGIN:DAYLIGHT
TZOFFSETFROM:-0800
TZOFFSETTO:-0700
TZNAME:PDT
DTSTART:20270314T100000
END:DAYLIGHT
BEGIN:STANDARD
TZOFFSETFROM:-0700
TZOFFSETTO:-0800
TZNAME:PST
DTSTART:20271107T090000
END:STANDARD
END:VTIMEZONE
BEGIN:VEVENT
DTSTART;TZID=America/Vancouver:20260320T080000
DTEND;TZID=America/Vancouver:20260320T170000
DTSTAMP:20260423T095333
CREATED:20260301T012226Z
LAST-MODIFIED:20260310T001640Z
UID:3655-1773993600-1774026000@edgewoodpac.ca
SUMMARY:Purdy's Easter Fundraiser 2026 Order Deadline
DESCRIPTION:With Easter right around the corner you won’t want to miss this sweet Purdy’s Fundraiser!\nA portion of all orders will support our school!\nOrders must be placed by MARCH 20TH\, 2026. \n\n\n\n\n\n\n\n\n\n\n\nCLICK HERE TO SHOP NOW! \n\nHOW TO ORDER: \n\nScan the QR code or click the button above to access our school’s fundraising campaign page\nOnce you’ve gotten to our page\, click SIGN IN at the top of the page\n\n\n\n\n\n\n\n\n\n\n\n\n3. Either login to your account or create a new one: \n\n\n\n\n\n\n\n\n\n\n\n4. Fill out all the necessary fields to create your account: \n\n\n\n\n\n\n\n\n\n\n\n5. Once your account has been created\, click GET STARTED to browse the catalog \n\n\n\n\n\n\n\n\n\n\n\n6. Add any desired items to your bag and then checkout as normal. A portion of all orders will go directly towards our school! \n​ORDERS CLOSE MARCH 20TH! \n\n\n\n\n\n\n\n\n\n\n\n\n\n\n\n\n\n\n\n\n\n\n\n\n\n\n\n\n\n\n\n\n\n​
URL:https://edgewoodpac.ca/event/purdys-easter-fundraiser-2026/
END:VEVENT
END:VCALENDAR