BEGIN:VCALENDAR
VERSION:2.0
PRODID:-//EWPAC - ECPv6.15.20//NONSGML v1.0//EN
CALSCALE:GREGORIAN
METHOD:PUBLISH
X-WR-CALNAME:EWPAC
X-ORIGINAL-URL:https://edgewoodpac.ca
X-WR-CALDESC:Events for EWPAC
REFRESH-INTERVAL;VALUE=DURATION:PT1H
X-Robots-Tag:noindex
X-PUBLISHED-TTL:PT1H
BEGIN:VTIMEZONE
TZID:America/Vancouver
BEGIN:DAYLIGHT
TZOFFSETFROM:-0800
TZOFFSETTO:-0700
TZNAME:PDT
DTSTART:20250309T100000
END:DAYLIGHT
BEGIN:STANDARD
TZOFFSETFROM:-0700
TZOFFSETTO:-0800
TZNAME:PST
DTSTART:20251102T090000
END:STANDARD
BEGIN:DAYLIGHT
TZOFFSETFROM:-0800
TZOFFSETTO:-0700
TZNAME:PDT
DTSTART:20260308T100000
END:DAYLIGHT
BEGIN:STANDARD
TZOFFSETFROM:-0700
TZOFFSETTO:-0800
TZNAME:PST
DTSTART:20261101T090000
END:STANDARD
BEGIN:DAYLIGHT
TZOFFSETFROM:-0800
TZOFFSETTO:-0700
TZNAME:PDT
DTSTART:20270314T100000
END:DAYLIGHT
BEGIN:STANDARD
TZOFFSETFROM:-0700
TZOFFSETTO:-0800
TZNAME:PST
DTSTART:20271107T090000
END:STANDARD
END:VTIMEZONE
BEGIN:VEVENT
DTSTART;TZID=America/Vancouver:20260406T080000
DTEND;TZID=America/Vancouver:20260406T170000
DTSTAMP:20260423T082946
CREATED:20260406T200658Z
LAST-MODIFIED:20260406T200658Z
UID:3706-1775462400-1775494800@edgewoodpac.ca
SUMMARY:Bingo Night 2026
DESCRIPTION:It’s baaaaack! Our Annual Bingo Night is coming up at the end of this month and only limited space is available! Snag your tickets while you can via your Student’s Hot Lunch portal. All attendees must purchase entry tickets for $1 each (each parent\, student\, sibling – this is for capacity safety reasons).  \nBingo Books will be $15 for 5 game cards\nPizza dinner can be pre-ordered up until April 22nd. \nEverything can be ordered via your child’s hot lunch accounts – please place all orders under your OLDEST CHILD’S name \nThis event is for Edgewood students and their families only please. \nDon’t forget to bring your bingo card markers or highlighters! Can’t wait to see you there! \nPurchase Bingo Tickets in Your HOT LUNCH PORTAL Starting April 10
URL:https://edgewoodpac.ca/event/bingo-night-2026/
END:VEVENT
END:VCALENDAR