BEGIN:VCALENDAR
VERSION:2.0
PRODID:-//EWPAC - ECPv6.15.20//NONSGML v1.0//EN
CALSCALE:GREGORIAN
METHOD:PUBLISH
X-ORIGINAL-URL:https://edgewoodpac.ca
X-WR-CALDESC:Events for EWPAC
REFRESH-INTERVAL;VALUE=DURATION:PT1H
X-Robots-Tag:noindex
X-PUBLISHED-TTL:PT1H
BEGIN:VTIMEZONE
TZID:America/Vancouver
BEGIN:DAYLIGHT
TZOFFSETFROM:-0800
TZOFFSETTO:-0700
TZNAME:PDT
DTSTART:20190310T100000
END:DAYLIGHT
BEGIN:STANDARD
TZOFFSETFROM:-0700
TZOFFSETTO:-0800
TZNAME:PST
DTSTART:20191103T090000
END:STANDARD
BEGIN:DAYLIGHT
TZOFFSETFROM:-0800
TZOFFSETTO:-0700
TZNAME:PDT
DTSTART:20200308T100000
END:DAYLIGHT
BEGIN:STANDARD
TZOFFSETFROM:-0700
TZOFFSETTO:-0800
TZNAME:PST
DTSTART:20201101T090000
END:STANDARD
BEGIN:DAYLIGHT
TZOFFSETFROM:-0800
TZOFFSETTO:-0700
TZNAME:PDT
DTSTART:20210314T100000
END:DAYLIGHT
BEGIN:STANDARD
TZOFFSETFROM:-0700
TZOFFSETTO:-0800
TZNAME:PST
DTSTART:20211107T090000
END:STANDARD
END:VTIMEZONE
BEGIN:VEVENT
DTSTART;TZID=America/Vancouver:20201209T184500
DTEND;TZID=America/Vancouver:20201209T193000
DTSTAMP:20260423T151419
CREATED:20201128T134955Z
LAST-MODIFIED:20201205T193222Z
UID:160-1607539500-1607542200@edgewoodpac.ca
SUMMARY:INAUGURAL EWPAC MEETING - INFORMATION SESSION
DESCRIPTION:JOIN US on ZOOM for our Inaugural EWPAC meeting!\nThis will be an information session sharing the progress we have made so far on forming our PAC and details about how to get involved! \nEdgewood Elementary is inviting you to a scheduled Zoom meeting. \nJoin Zoom Meeting\nhttps://ca01web.zoom.us/j/63651767779?pwd=TXNNTVA4eTVNQVJncDdYMjd3T2xOdz09 \nMeeting ID: 636 5176 7779\nPasscode: 8NcZ&Seh\nOne tap mobile\n+15873281099\,\,63651767779#\,\,\,\,\,\,0#\,\,31890203# Canada\n+16473744685\,\,63651767779#\,\,\,\,\,\,0#\,\,31890203# Canada \nDial by your location\n+1 778 907 2071 Canada\nMeeting ID: 636 5176 7779\nPasscode: 31890203 \nCHECK OUT THE PROPOSED AGENDA HERE -> EWPAC – AGENDA DEC 9\, 2020\nCHECK OUT THE PROPOSED BYLAW AND CONSTITUTION DOCUMENT -> PROPOSED BYLAWS & CONSTITUTION
URL:https://edgewoodpac.ca/event/inaugural-ewpac-meeting/
CATEGORIES:MEETINGS
ATTACH;FMTTYPE=image/jpeg:https://edgewoodpac.ca/wp-content/uploads/2020/11/timeforameet.jpg
END:VEVENT
END:VCALENDAR