BEGIN:VCALENDAR
VERSION:2.0
PRODID:-//EWPAC - ECPv6.15.20//NONSGML v1.0//EN
CALSCALE:GREGORIAN
METHOD:PUBLISH
X-ORIGINAL-URL:https://edgewoodpac.ca
X-WR-CALDESC:Events for EWPAC
REFRESH-INTERVAL;VALUE=DURATION:PT1H
X-Robots-Tag:noindex
X-PUBLISHED-TTL:PT1H
BEGIN:VTIMEZONE
TZID:America/Vancouver
BEGIN:DAYLIGHT
TZOFFSETFROM:-0800
TZOFFSETTO:-0700
TZNAME:PDT
DTSTART:20250309T100000
END:DAYLIGHT
BEGIN:STANDARD
TZOFFSETFROM:-0700
TZOFFSETTO:-0800
TZNAME:PST
DTSTART:20251102T090000
END:STANDARD
BEGIN:DAYLIGHT
TZOFFSETFROM:-0800
TZOFFSETTO:-0700
TZNAME:PDT
DTSTART:20260308T100000
END:DAYLIGHT
BEGIN:STANDARD
TZOFFSETFROM:-0700
TZOFFSETTO:-0800
TZNAME:PST
DTSTART:20261101T090000
END:STANDARD
BEGIN:DAYLIGHT
TZOFFSETFROM:-0800
TZOFFSETTO:-0700
TZNAME:PDT
DTSTART:20270314T100000
END:DAYLIGHT
BEGIN:STANDARD
TZOFFSETFROM:-0700
TZOFFSETTO:-0800
TZNAME:PST
DTSTART:20271107T090000
END:STANDARD
END:VTIMEZONE
BEGIN:VEVENT
DTSTART;TZID=America/Vancouver:20260424T173000
DTEND;TZID=America/Vancouver:20260424T200000
DTSTAMP:20260423T162309
CREATED:20260310T001523Z
LAST-MODIFIED:20260310T001523Z
UID:3695-1777051800-1777060800@edgewoodpac.ca
SUMMARY:Bingo 2026
DESCRIPTION:More Details to Come!
URL:https://edgewoodpac.ca/event/bingo-2026/
END:VEVENT
BEGIN:VEVENT
DTSTART;TZID=America/Vancouver:20260528T150000
DTEND;TZID=America/Vancouver:20260528T190000
DTSTAMP:20260423T162309
CREATED:20260201T205307Z
LAST-MODIFIED:20260406T200248Z
UID:3623-1779980400-1779994800@edgewoodpac.ca
SUMMARY:Spring Fair 2026!
DESCRIPTION:We are SO excited to be hosting Edgewood Elementary’s very first SPRING FAIR on\n​Thursday May 28th\, 2026 from 3:00-7:00pm! \nMark your calendars and save the date\, as this will be an event you won’t want to miss!\nWe’ll be having amazing carnival style games\, hair tinselling\, magicians\, face painting\, cotton candy\, photo booths\, food trucks and MORE!\n​\n​This is a FREE community event\, so spread the word to your friends\, family and neighbours\, and support your school community by stopping by! Everyone is welcome!​\n​\nAdmission to the fair will be free\, and there will be MANY fun activity options available at no cost\, however the carnival games and hair tinsel will be available for a fee (Games will be 5 for $10 and Hair Tinsel will be $5).\n​\nThe Carnival Games will require wrist band tickets that can be purchased directly at the fair the day of\, as well as online via your Hot Lunch Portal prior to the event (this method is strongly advised)!!\nCarnival Games wrist band sales will go live on Tuesday\, April 7th\, 2026. \nPURCHASE SPRING GAME BRACELET TICKETS HERE\n \n\nCALLING ALL EDGEWOOD VOLUNTEERS!\nWe need YOUR help! As this is our very first Spring Fair\, we are so excited to potentially make this an annual staple within our community\, and its success is only made possible through amazing volunteers. We have also reached out to our local high school\, Grandview Heights\, who have graciously provided a number of willing volunteers from their leadership committees\, but we still need help from YOU! PLEASE take a moment to view the sign-up below\, and if you are free that day\, PLEASE volunteer in any capacity you can. We cannot have this Fair run without the amazing help of our school community.\n​\nWe hope this will be an exciting\, fun and memorable event for all our students\, their families\, and the surrounding neighbourhood\, for many years to come! \nSIGN UP TO VOLUNTEER HERE!\nTHANK YOU SO MUCH FOR SUPPORTING YOUR SCHOOL!
URL:https://edgewoodpac.ca/event/spring-fair-2025/
END:VEVENT
END:VCALENDAR