BEGIN:VCALENDAR
VERSION:2.0
PRODID:-//EWPAC - ECPv6.15.20//NONSGML v1.0//EN
CALSCALE:GREGORIAN
METHOD:PUBLISH
X-WR-CALNAME:EWPAC
X-ORIGINAL-URL:https://edgewoodpac.ca
X-WR-CALDESC:Events for EWPAC
REFRESH-INTERVAL;VALUE=DURATION:PT1H
X-Robots-Tag:noindex
X-PUBLISHED-TTL:PT1H
BEGIN:VTIMEZONE
TZID:America/Vancouver
BEGIN:DAYLIGHT
TZOFFSETFROM:-0800
TZOFFSETTO:-0700
TZNAME:PDT
DTSTART:20210314T100000
END:DAYLIGHT
BEGIN:STANDARD
TZOFFSETFROM:-0700
TZOFFSETTO:-0800
TZNAME:PST
DTSTART:20211107T090000
END:STANDARD
BEGIN:DAYLIGHT
TZOFFSETFROM:-0800
TZOFFSETTO:-0700
TZNAME:PDT
DTSTART:20220313T100000
END:DAYLIGHT
BEGIN:STANDARD
TZOFFSETFROM:-0700
TZOFFSETTO:-0800
TZNAME:PST
DTSTART:20221106T090000
END:STANDARD
BEGIN:DAYLIGHT
TZOFFSETFROM:-0800
TZOFFSETTO:-0700
TZNAME:PDT
DTSTART:20230312T100000
END:DAYLIGHT
BEGIN:STANDARD
TZOFFSETFROM:-0700
TZOFFSETTO:-0800
TZNAME:PST
DTSTART:20231105T090000
END:STANDARD
BEGIN:DAYLIGHT
TZOFFSETFROM:-0800
TZOFFSETTO:-0700
TZNAME:PDT
DTSTART:20240310T100000
END:DAYLIGHT
BEGIN:STANDARD
TZOFFSETFROM:-0700
TZOFFSETTO:-0800
TZNAME:PST
DTSTART:20241103T090000
END:STANDARD
END:VTIMEZONE
BEGIN:VEVENT
DTSTART;VALUE=DATE:20230512
DTEND;VALUE=DATE:20230513
DTSTAMP:20260423T163233
CREATED:20230327T162053Z
LAST-MODIFIED:20230327T162053Z
UID:2964-1683849600-1683935999@edgewoodpac.ca
SUMMARY:Hot Lunch Day
DESCRIPTION:
URL:https://edgewoodpac.ca/event/hot-lunch-day-40/
END:VEVENT
BEGIN:VEVENT
DTSTART;TZID=America/Vancouver:20230510T183000
DTEND;TZID=America/Vancouver:20230510T193000
DTSTAMP:20260423T163233
CREATED:20230327T162345Z
LAST-MODIFIED:20230510T181810Z
UID:2978-1683743400-1683747000@edgewoodpac.ca
SUMMARY:May AGM PAC Meeting
DESCRIPTION:PROPOSED BY-LAW AMENDMENT\nPlease join us tonight for our virtual PAC Annual General Meeting on Wednesday May 10th at 6:30PM on ZOOM!  \nAgenda will include:\n– 2022/2023 Year in Review\n– By-law amendment VOTE (Hot Lunch Coordinator executive role)\n– PAC President’s update\n– 2023/2024 Budget Approval\n– 2023/2024 PAC Executive Elections\n– Hot Lunch update: Changes to 2023/2024\n– Open forum and More! \nPlease note: HOT LUNCH COORDINATOR TO BE INCLUDED AS EXECUTIVE OFFICER\nHotLunch – Executive Member Amendment\n \nZOOM MEETING INFO\nJoin Zoom Meeting\nhttps://zoom.us/j/91927182748?pwd=azVCeGNMSFM0clV1TmFhaXNueTlzUT09 \nMeeting ID: 919 2718 2748\nPasscode: 4cyYmD
URL:https://edgewoodpac.ca/event/may-agm-pac-meeting/
CATEGORIES:MEETINGS
END:VEVENT
BEGIN:VEVENT
DTSTART;VALUE=DATE:20230428
DTEND;VALUE=DATE:20230429
DTSTAMP:20260423T163233
CREATED:20230327T162029Z
LAST-MODIFIED:20230327T162029Z
UID:2962-1682640000-1682726399@edgewoodpac.ca
SUMMARY:Hot Lunch Day
DESCRIPTION:
URL:https://edgewoodpac.ca/event/hot-lunch-day-39/
END:VEVENT
BEGIN:VEVENT
DTSTART;VALUE=DATE:20230421
DTEND;VALUE=DATE:20230422
DTSTAMP:20260423T163233
CREATED:20230327T162001Z
LAST-MODIFIED:20230327T162001Z
UID:2960-1682035200-1682121599@edgewoodpac.ca
SUMMARY:Hot Lunch Day
DESCRIPTION:
URL:https://edgewoodpac.ca/event/hot-lunch-day-38/
END:VEVENT
BEGIN:VEVENT
DTSTART;TZID=America/Vancouver:20230414T170000
DTEND;TZID=America/Vancouver:20230414T200000
DTSTAMP:20260423T163233
CREATED:20230327T162414Z
LAST-MODIFIED:20230401T052733Z
UID:2980-1681491600-1681502400@edgewoodpac.ca
SUMMARY:Bingo Night!
DESCRIPTION:Click here for more details https://edgewoodpac.ca/bingonight2023/
URL:https://edgewoodpac.ca/event/bingo-night/
END:VEVENT
BEGIN:VEVENT
DTSTART;TZID=America/Vancouver:20230414T080000
DTEND;TZID=America/Vancouver:20230414T170000
DTSTAMP:20260423T163233
CREATED:20230327T161939Z
LAST-MODIFIED:20230327T161939Z
UID:2958-1681459200-1681491600@edgewoodpac.ca
SUMMARY:Hot Lunch Day
DESCRIPTION:
URL:https://edgewoodpac.ca/event/hot-lunch-day-37/
END:VEVENT
BEGIN:VEVENT
DTSTART;VALUE=DATE:20230405
DTEND;VALUE=DATE:20230406
DTSTAMP:20260423T163233
CREATED:20230327T161923Z
LAST-MODIFIED:20230327T161923Z
UID:2955-1680652800-1680739199@edgewoodpac.ca
SUMMARY:Hot Lunch Day
DESCRIPTION:
URL:https://edgewoodpac.ca/event/hot-lunch-day-36/
END:VEVENT
BEGIN:VEVENT
DTSTART;TZID=America/Vancouver:20230309T183000
DTEND;TZID=America/Vancouver:20230309T193000
DTSTAMP:20260423T163233
CREATED:20230306T221249Z
LAST-MODIFIED:20230306T221454Z
UID:2942-1678386600-1678390200@edgewoodpac.ca
SUMMARY:March General PAC Meeting
DESCRIPTION:Thursday March 9 @ 6:30 pm – 7:30 pm\n\n\nJoin us on Zoom for our PAC General meeting Thursday March 9th @ 6:30PM! \nAgenda will include:\n– 2023/2024 Budget: Ideas and discussion around forming PAC budget for next year\n– PAC President’s update\n– Garden Club 2000$ contribution – VOTE\n– Staff Appreciation – May\n– BINGO Night April 14th\n– Open forum and More! \nJoin Zoom Meeting\nhttps://zoom.us/j/91927182748?pwd=azVCeGNMSFM0clV1TmFhaXNueTlzUT09 \nMeeting ID: 919 2718 2748\nPasscode: 4cyYmD \nHope you’re able to join us and thank you for all your support!
URL:https://edgewoodpac.ca/event/march-general-pac-meeting/
END:VEVENT
BEGIN:VEVENT
DTSTART;TZID=America/Vancouver:20230111T183000
DTEND;TZID=America/Vancouver:20230111T193000
DTSTAMP:20260423T163233
CREATED:20230107T181735Z
LAST-MODIFIED:20230107T181841Z
UID:2905-1673461800-1673465400@edgewoodpac.ca
SUMMARY:January General PAC Meeting
DESCRIPTION:Join us on Zoom for our PAC General meeting Wednesday January 11th @ 6:30PM! \nAgenda will include:\n– Welcome to Ms. Paredes – Principal’s update\n– PAC President’s update\n– Hot lunch Update – New Winter Session\n– Fundraising update – Bingo and Social events planned for 2023!\n– School gardening club – Presentation\n– Open forum and More! \nJoin Zoom Meeting\nhttps://zoom.us/j/91927182748?pwd=azVCeGNMSFM0clV1TmFhaXNueTlzUT09 \nMeeting ID: 919 2718 2748\nPasscode: 4cyYmD \nHope you’re able to join us and thank you for all your support!
URL:https://edgewoodpac.ca/event/january-general-pac-meeting/
CATEGORIES:MEETINGS
END:VEVENT
BEGIN:VEVENT
DTSTART;VALUE=DATE:20230106
DTEND;VALUE=DATE:20230107
DTSTAMP:20260423T163233
CREATED:20220928T163451Z
LAST-MODIFIED:20220928T165547Z
UID:2674-1672963200-1673049599@edgewoodpac.ca
SUMMARY:Hot Lunch Day
DESCRIPTION:
URL:https://edgewoodpac.ca/event/hot-lunch-day-35/
END:VEVENT
BEGIN:VEVENT
DTSTART;VALUE=DATE:20221214
DTEND;VALUE=DATE:20221215
DTSTAMP:20260423T163233
CREATED:20220928T163451Z
LAST-MODIFIED:20220928T165708Z
UID:2673-1670976000-1671062399@edgewoodpac.ca
SUMMARY:Hot Lunch (Hot Dog Day)
DESCRIPTION:
URL:https://edgewoodpac.ca/event/hot-lunch-hot-dog-day-3/
END:VEVENT
BEGIN:VEVENT
DTSTART;VALUE=DATE:20221209
DTEND;VALUE=DATE:20221210
DTSTAMP:20260423T163233
CREATED:20220928T163436Z
LAST-MODIFIED:20220928T165725Z
UID:2672-1670544000-1670630399@edgewoodpac.ca
SUMMARY:Hot Lunch Day
DESCRIPTION:
URL:https://edgewoodpac.ca/event/hot-lunch-day-34/
END:VEVENT
BEGIN:VEVENT
DTSTART;VALUE=DATE:20221202
DTEND;VALUE=DATE:20221203
DTSTAMP:20260423T163233
CREATED:20220928T163436Z
LAST-MODIFIED:20220928T165739Z
UID:2671-1669939200-1670025599@edgewoodpac.ca
SUMMARY:Hot Lunch Day
DESCRIPTION:
URL:https://edgewoodpac.ca/event/hot-lunch-day-33/
END:VEVENT
BEGIN:VEVENT
DTSTART;VALUE=DATE:20221125
DTEND;VALUE=DATE:20221126
DTSTAMP:20260423T163233
CREATED:20220928T163436Z
LAST-MODIFIED:20220928T165755Z
UID:2670-1669334400-1669420799@edgewoodpac.ca
SUMMARY:Hot Lunch Day
DESCRIPTION:
URL:https://edgewoodpac.ca/event/hot-lunch-day-31/
END:VEVENT
BEGIN:VEVENT
DTSTART;VALUE=DATE:20221118
DTEND;VALUE=DATE:20221119
DTSTAMP:20260423T163233
CREATED:20220928T163436Z
LAST-MODIFIED:20220928T165809Z
UID:2669-1668729600-1668815999@edgewoodpac.ca
SUMMARY:Hot Lunch Day
DESCRIPTION:
URL:https://edgewoodpac.ca/event/hot-lunch-day-30/
END:VEVENT
BEGIN:VEVENT
DTSTART;TZID=America/Vancouver:20221109T183000
DTEND;TZID=America/Vancouver:20221109T193000
DTSTAMP:20260423T163233
CREATED:20221105T031300Z
LAST-MODIFIED:20221109T045512Z
UID:2834-1668018600-1668022200@edgewoodpac.ca
SUMMARY:November PAC General Meeting
DESCRIPTION:Join us November 9th @ 6:30PM for our November PAC meeting. \nTopic’s include \n\nPresident’s update\nPrincipal’s update\nCrosswalk safety discussion\nLong term savings plan (VOTE)\nFundraising update\nOpen Forum and more!\n\nFULL AGENDA HERE \nJoin Zoom Meeting\nhttps://zoom.us/j/91927182748?pwd=azVCeGNMSFM0clV1TmFhaXNueTlzUT09 \nMeeting ID: 919 2718 2748\nPasscode: 4cyYmD
URL:https://edgewoodpac.ca/event/november-pac-general-meeting/
CATEGORIES:MEETINGS
END:VEVENT
BEGIN:VEVENT
DTSTART;VALUE=DATE:20221108
DTEND;VALUE=DATE:20221109
DTSTAMP:20260423T163233
CREATED:20220928T163435Z
LAST-MODIFIED:20220928T165824Z
UID:2668-1667865600-1667951999@edgewoodpac.ca
SUMMARY:Hot Lunch (Hot Dog Day)
DESCRIPTION:
URL:https://edgewoodpac.ca/event/hot-lunch-hot-dog-day-2/
END:VEVENT
BEGIN:VEVENT
DTSTART;VALUE=DATE:20221104
DTEND;VALUE=DATE:20221105
DTSTAMP:20260423T163233
CREATED:20220928T163432Z
LAST-MODIFIED:20220928T165841Z
UID:2667-1667520000-1667606399@edgewoodpac.ca
SUMMARY:Hot Lunch Day
DESCRIPTION:
URL:https://edgewoodpac.ca/event/hot-lunch-day-29/
END:VEVENT
BEGIN:VEVENT
DTSTART;VALUE=DATE:20221028
DTEND;VALUE=DATE:20221029
DTSTAMP:20260423T163233
CREATED:20220928T163432Z
LAST-MODIFIED:20220928T165856Z
UID:2666-1666915200-1667001599@edgewoodpac.ca
SUMMARY:Hot Lunch Day
DESCRIPTION:
URL:https://edgewoodpac.ca/event/hot-lunch-day-27/
END:VEVENT
BEGIN:VEVENT
DTSTART;VALUE=DATE:20221019
DTEND;VALUE=DATE:20221020
DTSTAMP:20260423T163233
CREATED:20220928T163432Z
LAST-MODIFIED:20220928T165920Z
UID:2665-1666137600-1666223999@edgewoodpac.ca
SUMMARY:Hot Lunch (Hot Dog Day)
DESCRIPTION:
URL:https://edgewoodpac.ca/event/hot-lunch-hot-dog-day/
END:VEVENT
BEGIN:VEVENT
DTSTART;VALUE=DATE:20221014
DTEND;VALUE=DATE:20221015
DTSTAMP:20260423T163233
CREATED:20220928T163432Z
LAST-MODIFIED:20220928T165933Z
UID:2664-1665705600-1665791999@edgewoodpac.ca
SUMMARY:Hot Lunch Day
DESCRIPTION:
URL:https://edgewoodpac.ca/event/hot-lunch-day-26/
END:VEVENT
BEGIN:VEVENT
DTSTART;VALUE=DATE:20221007
DTEND;VALUE=DATE:20221008
DTSTAMP:20260423T163233
CREATED:20220928T163431Z
LAST-MODIFIED:20220928T165945Z
UID:2663-1665100800-1665187199@edgewoodpac.ca
SUMMARY:Hot Lunch Day
DESCRIPTION:
URL:https://edgewoodpac.ca/event/hot-lunch-day-25/
END:VEVENT
BEGIN:VEVENT
DTSTART;TZID=America/Vancouver:20220914T183000
DTEND;TZID=America/Vancouver:20220914T193000
DTSTAMP:20260423T163233
CREATED:20220909T232051Z
LAST-MODIFIED:20220913T010556Z
UID:2545-1663180200-1663183800@edgewoodpac.ca
SUMMARY:PAC General Meeting
DESCRIPTION:Welcome to our first Parent Advisory Committee (PAC) Meeting! \nJoin us for our first meeting of the year! Our agenda includes information on the following topics: \n\nMeeting your new executive\nHot Lunch and Volunteer opportunities\nSpirit Wear\nLong Term Savings Plans\nOpen forum for questions\n\nLocation: Edgewood Elementary Gym \nWe will also be broadcasting this event on ZOOM!  Bare with us if there are any audio issues\, we will try to make the broadcast as technically sound as possible. \nClick the link to Join the Zoom Meeting\nhttps://zoom.us/j/91927182748?pwd=azVCeGNMSFM0clV1TmFhaXNueTlzUT09 \nOr manually join using the following details:\nMeeting ID: 919 2718 2748\nPasscode: 4cyYmD \nLooking forward to seeing you all there!
URL:https://edgewoodpac.ca/event/pac-general-meeting/
LOCATION:Edgewood Elementary Gym
CATEGORIES:MEETINGS
END:VEVENT
BEGIN:VEVENT
DTSTART;VALUE=DATE:20220620
DTEND;VALUE=DATE:20220621
DTSTAMP:20260423T163233
CREATED:20220427T185136Z
LAST-MODIFIED:20220427T185136Z
UID:2257-1655683200-1655769599@edgewoodpac.ca
SUMMARY:Hot Lunch Day!
DESCRIPTION:
URL:https://edgewoodpac.ca/event/hot-lunch-day-32/
END:VEVENT
BEGIN:VEVENT
DTSTART;VALUE=DATE:20220615
DTEND;VALUE=DATE:20220616
DTSTAMP:20260423T163233
CREATED:20211203T232455Z
LAST-MODIFIED:20211203T232455Z
UID:1466-1655251200-1655337599@edgewoodpac.ca
SUMMARY:Hot Lunch Day!
DESCRIPTION:
URL:https://edgewoodpac.ca/event/hot-lunch-day-23/
END:VEVENT
BEGIN:VEVENT
DTSTART;VALUE=DATE:20220610
DTEND;VALUE=DATE:20220611
DTSTAMP:20260423T163233
CREATED:20211203T232437Z
LAST-MODIFIED:20211203T232437Z
UID:1464-1654819200-1654905599@edgewoodpac.ca
SUMMARY:Hot Lunch Day!
DESCRIPTION:
URL:https://edgewoodpac.ca/event/hot-lunch-day-22/
END:VEVENT
BEGIN:VEVENT
DTSTART;TZID=America/Vancouver:20220603T180000
DTEND;TZID=America/Vancouver:20220603T210000
DTSTAMP:20260423T163233
CREATED:20220324T024940Z
LAST-MODIFIED:20220526T204627Z
UID:2202-1654279200-1654290000@edgewoodpac.ca
SUMMARY:End of the Year Party - BINGO NIGHT!
DESCRIPTION:View event details here https://edgewoodpac.ca/bingonight2022/
URL:https://edgewoodpac.ca/event/end-of-the-year-party-bingo-night/
END:VEVENT
BEGIN:VEVENT
DTSTART;VALUE=DATE:20220603
DTEND;VALUE=DATE:20220604
DTSTAMP:20260423T163233
CREATED:20211203T232423Z
LAST-MODIFIED:20211203T232423Z
UID:1462-1654214400-1654300799@edgewoodpac.ca
SUMMARY:Hot Lunch Day!
DESCRIPTION:
URL:https://edgewoodpac.ca/event/hot-lunch-day-21/
END:VEVENT
BEGIN:VEVENT
DTSTART;VALUE=DATE:20220527
DTEND;VALUE=DATE:20220528
DTSTAMP:20260423T163233
CREATED:20220427T185026Z
LAST-MODIFIED:20220427T185026Z
UID:2249-1653609600-1653695999@edgewoodpac.ca
SUMMARY:Hot Lunch Day!
DESCRIPTION:
URL:https://edgewoodpac.ca/event/hot-lunch-day-28/
END:VEVENT
BEGIN:VEVENT
DTSTART;VALUE=DATE:20220526
DTEND;VALUE=DATE:20220527
DTSTAMP:20260423T163233
CREATED:20220517T141522Z
LAST-MODIFIED:20220517T141522Z
UID:2400-1653523200-1653609599@edgewoodpac.ca
SUMMARY:Dinner Night Out - Panago Pizza!
DESCRIPTION:
URL:https://edgewoodpac.ca/event/dinner-night-out-panago-pizza-2/
END:VEVENT
END:VCALENDAR