BEGIN:VCALENDAR
VERSION:2.0
PRODID:-//EWPAC - ECPv6.15.20//NONSGML v1.0//EN
CALSCALE:GREGORIAN
METHOD:PUBLISH
X-WR-CALNAME:EWPAC
X-ORIGINAL-URL:https://edgewoodpac.ca
X-WR-CALDESC:Events for EWPAC
REFRESH-INTERVAL;VALUE=DURATION:PT1H
X-Robots-Tag:noindex
X-PUBLISHED-TTL:PT1H
BEGIN:VTIMEZONE
TZID:America/Vancouver
BEGIN:DAYLIGHT
TZOFFSETFROM:-0800
TZOFFSETTO:-0700
TZNAME:PDT
DTSTART:20210314T100000
END:DAYLIGHT
BEGIN:STANDARD
TZOFFSETFROM:-0700
TZOFFSETTO:-0800
TZNAME:PST
DTSTART:20211107T090000
END:STANDARD
BEGIN:DAYLIGHT
TZOFFSETFROM:-0800
TZOFFSETTO:-0700
TZNAME:PDT
DTSTART:20220313T100000
END:DAYLIGHT
BEGIN:STANDARD
TZOFFSETFROM:-0700
TZOFFSETTO:-0800
TZNAME:PST
DTSTART:20221106T090000
END:STANDARD
BEGIN:DAYLIGHT
TZOFFSETFROM:-0800
TZOFFSETTO:-0700
TZNAME:PDT
DTSTART:20230312T100000
END:DAYLIGHT
BEGIN:STANDARD
TZOFFSETFROM:-0700
TZOFFSETTO:-0800
TZNAME:PST
DTSTART:20231105T090000
END:STANDARD
END:VTIMEZONE
BEGIN:VEVENT
DTSTART;VALUE=DATE:20221014
DTEND;VALUE=DATE:20221015
DTSTAMP:20260423T153634
CREATED:20220928T163432Z
LAST-MODIFIED:20220928T165933Z
UID:2664-1665705600-1665791999@edgewoodpac.ca
SUMMARY:Hot Lunch Day
DESCRIPTION:
URL:https://edgewoodpac.ca/event/hot-lunch-day-26/
END:VEVENT
BEGIN:VEVENT
DTSTART;VALUE=DATE:20221007
DTEND;VALUE=DATE:20221008
DTSTAMP:20260423T153634
CREATED:20220928T163431Z
LAST-MODIFIED:20220928T165945Z
UID:2663-1665100800-1665187199@edgewoodpac.ca
SUMMARY:Hot Lunch Day
DESCRIPTION:
URL:https://edgewoodpac.ca/event/hot-lunch-day-25/
END:VEVENT
BEGIN:VEVENT
DTSTART;TZID=America/Vancouver:20220914T183000
DTEND;TZID=America/Vancouver:20220914T193000
DTSTAMP:20260423T153634
CREATED:20220909T232051Z
LAST-MODIFIED:20220913T010556Z
UID:2545-1663180200-1663183800@edgewoodpac.ca
SUMMARY:PAC General Meeting
DESCRIPTION:Welcome to our first Parent Advisory Committee (PAC) Meeting! \nJoin us for our first meeting of the year! Our agenda includes information on the following topics: \n\nMeeting your new executive\nHot Lunch and Volunteer opportunities\nSpirit Wear\nLong Term Savings Plans\nOpen forum for questions\n\nLocation: Edgewood Elementary Gym \nWe will also be broadcasting this event on ZOOM!  Bare with us if there are any audio issues\, we will try to make the broadcast as technically sound as possible. \nClick the link to Join the Zoom Meeting\nhttps://zoom.us/j/91927182748?pwd=azVCeGNMSFM0clV1TmFhaXNueTlzUT09 \nOr manually join using the following details:\nMeeting ID: 919 2718 2748\nPasscode: 4cyYmD \nLooking forward to seeing you all there!
URL:https://edgewoodpac.ca/event/pac-general-meeting/
LOCATION:Edgewood Elementary Gym
CATEGORIES:MEETINGS
END:VEVENT
BEGIN:VEVENT
DTSTART;VALUE=DATE:20220620
DTEND;VALUE=DATE:20220621
DTSTAMP:20260423T153634
CREATED:20220427T185136Z
LAST-MODIFIED:20220427T185136Z
UID:2257-1655683200-1655769599@edgewoodpac.ca
SUMMARY:Hot Lunch Day!
DESCRIPTION:
URL:https://edgewoodpac.ca/event/hot-lunch-day-32/
END:VEVENT
BEGIN:VEVENT
DTSTART;VALUE=DATE:20220615
DTEND;VALUE=DATE:20220616
DTSTAMP:20260423T153634
CREATED:20211203T232455Z
LAST-MODIFIED:20211203T232455Z
UID:1466-1655251200-1655337599@edgewoodpac.ca
SUMMARY:Hot Lunch Day!
DESCRIPTION:
URL:https://edgewoodpac.ca/event/hot-lunch-day-23/
END:VEVENT
BEGIN:VEVENT
DTSTART;VALUE=DATE:20220610
DTEND;VALUE=DATE:20220611
DTSTAMP:20260423T153634
CREATED:20211203T232437Z
LAST-MODIFIED:20211203T232437Z
UID:1464-1654819200-1654905599@edgewoodpac.ca
SUMMARY:Hot Lunch Day!
DESCRIPTION:
URL:https://edgewoodpac.ca/event/hot-lunch-day-22/
END:VEVENT
BEGIN:VEVENT
DTSTART;TZID=America/Vancouver:20220603T180000
DTEND;TZID=America/Vancouver:20220603T210000
DTSTAMP:20260423T153634
CREATED:20220324T024940Z
LAST-MODIFIED:20220526T204627Z
UID:2202-1654279200-1654290000@edgewoodpac.ca
SUMMARY:End of the Year Party - BINGO NIGHT!
DESCRIPTION:View event details here https://edgewoodpac.ca/bingonight2022/
URL:https://edgewoodpac.ca/event/end-of-the-year-party-bingo-night/
END:VEVENT
BEGIN:VEVENT
DTSTART;VALUE=DATE:20220603
DTEND;VALUE=DATE:20220604
DTSTAMP:20260423T153634
CREATED:20211203T232423Z
LAST-MODIFIED:20211203T232423Z
UID:1462-1654214400-1654300799@edgewoodpac.ca
SUMMARY:Hot Lunch Day!
DESCRIPTION:
URL:https://edgewoodpac.ca/event/hot-lunch-day-21/
END:VEVENT
BEGIN:VEVENT
DTSTART;VALUE=DATE:20220527
DTEND;VALUE=DATE:20220528
DTSTAMP:20260423T153634
CREATED:20220427T185026Z
LAST-MODIFIED:20220427T185026Z
UID:2249-1653609600-1653695999@edgewoodpac.ca
SUMMARY:Hot Lunch Day!
DESCRIPTION:
URL:https://edgewoodpac.ca/event/hot-lunch-day-28/
END:VEVENT
BEGIN:VEVENT
DTSTART;VALUE=DATE:20220526
DTEND;VALUE=DATE:20220527
DTSTAMP:20260423T153634
CREATED:20220517T141522Z
LAST-MODIFIED:20220517T141522Z
UID:2400-1653523200-1653609599@edgewoodpac.ca
SUMMARY:Dinner Night Out - Panago Pizza!
DESCRIPTION:
URL:https://edgewoodpac.ca/event/dinner-night-out-panago-pizza-2/
END:VEVENT
BEGIN:VEVENT
DTSTART;VALUE=DATE:20220520
DTEND;VALUE=DATE:20220521
DTSTAMP:20260423T153634
CREATED:20211203T232407Z
LAST-MODIFIED:20211203T232407Z
UID:1460-1653004800-1653091199@edgewoodpac.ca
SUMMARY:Hot Lunch Day!
DESCRIPTION:
URL:https://edgewoodpac.ca/event/hot-lunch-day-20/
END:VEVENT
BEGIN:VEVENT
DTSTART;VALUE=DATE:20220513
DTEND;VALUE=DATE:20220514
DTSTAMP:20260423T153634
CREATED:20211203T232352Z
LAST-MODIFIED:20211203T232352Z
UID:1458-1652400000-1652486399@edgewoodpac.ca
SUMMARY:Hot Lunch Day!
DESCRIPTION:
URL:https://edgewoodpac.ca/event/hot-lunch-day-19/
END:VEVENT
BEGIN:VEVENT
DTSTART;TZID=America/Vancouver:20220511T180000
DTEND;TZID=America/Vancouver:20220511T210000
DTSTAMP:20260423T153634
CREATED:20220324T025031Z
LAST-MODIFIED:20220324T025031Z
UID:2204-1652292000-1652302800@edgewoodpac.ca
SUMMARY:June PAC AGM Meeting!
DESCRIPTION:Check back for more details!
URL:https://edgewoodpac.ca/event/june-pac-agm-meeting/
END:VEVENT
BEGIN:VEVENT
DTSTART;VALUE=DATE:20220504
DTEND;VALUE=DATE:20220505
DTSTAMP:20260423T153634
CREATED:20211203T232334Z
LAST-MODIFIED:20211203T232334Z
UID:1456-1651622400-1651708799@edgewoodpac.ca
SUMMARY:Hot Lunch Day!
DESCRIPTION:
URL:https://edgewoodpac.ca/event/hot-lunch-day-18/
END:VEVENT
BEGIN:VEVENT
DTSTART;VALUE=DATE:20220429
DTEND;VALUE=DATE:20220430
DTSTAMP:20260423T153634
CREATED:20220427T184916Z
LAST-MODIFIED:20220427T184916Z
UID:2241-1651190400-1651276799@edgewoodpac.ca
SUMMARY:Hot Lunch Day!
DESCRIPTION:
URL:https://edgewoodpac.ca/event/hot-lunch-day-24/
END:VEVENT
BEGIN:VEVENT
DTSTART;VALUE=DATE:20220422
DTEND;VALUE=DATE:20220423
DTSTAMP:20260423T153634
CREATED:20211203T232318Z
LAST-MODIFIED:20211203T232318Z
UID:1454-1650585600-1650671999@edgewoodpac.ca
SUMMARY:Hot Lunch Day!
DESCRIPTION:
URL:https://edgewoodpac.ca/event/hot-lunch-day-17/
END:VEVENT
BEGIN:VEVENT
DTSTART;VALUE=DATE:20220413
DTEND;VALUE=DATE:20220414
DTSTAMP:20260423T153634
CREATED:20211203T232303Z
LAST-MODIFIED:20211203T232303Z
UID:1452-1649808000-1649894399@edgewoodpac.ca
SUMMARY:Hot Lunch Day!
DESCRIPTION:
URL:https://edgewoodpac.ca/event/hot-lunch-day-16/
END:VEVENT
BEGIN:VEVENT
DTSTART;VALUE=DATE:20220408
DTEND;VALUE=DATE:20220409
DTSTAMP:20260423T153634
CREATED:20211203T232218Z
LAST-MODIFIED:20211203T232218Z
UID:1450-1649376000-1649462399@edgewoodpac.ca
SUMMARY:Hot Lunch Day!
DESCRIPTION:
URL:https://edgewoodpac.ca/event/hot-lunch-day-15/
END:VEVENT
BEGIN:VEVENT
DTSTART;VALUE=DATE:20220401
DTEND;VALUE=DATE:20220402
DTSTAMP:20260423T153634
CREATED:20211203T232202Z
LAST-MODIFIED:20211203T232202Z
UID:1448-1648771200-1648857599@edgewoodpac.ca
SUMMARY:Hot Lunch Day!
DESCRIPTION:
URL:https://edgewoodpac.ca/event/hot-lunch-day-14/
END:VEVENT
BEGIN:VEVENT
DTSTART;VALUE=DATE:20220314
DTEND;VALUE=DATE:20220328
DTSTAMP:20260423T153634
CREATED:20220311T182749Z
LAST-MODIFIED:20220311T205636Z
UID:2194-1647216000-1648425599@edgewoodpac.ca
SUMMARY:Spring Break! (School Closed)
DESCRIPTION:
URL:https://edgewoodpac.ca/event/spring-break-school-closed/
END:VEVENT
BEGIN:VEVENT
DTSTART;VALUE=DATE:20220309
DTEND;VALUE=DATE:20220310
DTSTAMP:20260423T153634
CREATED:20211203T232145Z
LAST-MODIFIED:20211203T232145Z
UID:1446-1646784000-1646870399@edgewoodpac.ca
SUMMARY:Hot Lunch Day!
DESCRIPTION:
URL:https://edgewoodpac.ca/event/hot-lunch-day-13/
END:VEVENT
BEGIN:VEVENT
DTSTART;VALUE=DATE:20220304
DTEND;VALUE=DATE:20220305
DTSTAMP:20260423T153634
CREATED:20211203T232131Z
LAST-MODIFIED:20211203T232131Z
UID:1444-1646352000-1646438399@edgewoodpac.ca
SUMMARY:Hot Lunch Day!
DESCRIPTION:
URL:https://edgewoodpac.ca/event/hot-lunch-day-12/
END:VEVENT
BEGIN:VEVENT
DTSTART;VALUE=DATE:20220302
DTEND;VALUE=DATE:20220303
DTSTAMP:20260423T153634
CREATED:20211229T205042Z
LAST-MODIFIED:20211229T205042Z
UID:1491-1646179200-1646265599@edgewoodpac.ca
SUMMARY:Dinner Night out - Chipotle!
DESCRIPTION:
URL:https://edgewoodpac.ca/event/dinner-night-out-chipotle/
END:VEVENT
BEGIN:VEVENT
DTSTART;VALUE=DATE:20220224
DTEND;VALUE=DATE:20220225
DTSTAMP:20260423T153634
CREATED:20211203T232116Z
LAST-MODIFIED:20211203T232116Z
UID:1442-1645660800-1645747199@edgewoodpac.ca
SUMMARY:Hot Lunch Day!
DESCRIPTION:
URL:https://edgewoodpac.ca/event/hot-lunch-day-11/
END:VEVENT
BEGIN:VEVENT
DTSTART;VALUE=DATE:20220218
DTEND;VALUE=DATE:20220219
DTSTAMP:20260423T153634
CREATED:20211203T232058Z
LAST-MODIFIED:20211203T232058Z
UID:1440-1645142400-1645228799@edgewoodpac.ca
SUMMARY:Hot Lunch Day!
DESCRIPTION:
URL:https://edgewoodpac.ca/event/hot-lunch-day-10/
END:VEVENT
BEGIN:VEVENT
DTSTART;VALUE=DATE:20220210
DTEND;VALUE=DATE:20220211
DTSTAMP:20260423T153634
CREATED:20211203T232630Z
LAST-MODIFIED:20211203T232630Z
UID:1472-1644451200-1644537599@edgewoodpac.ca
SUMMARY:Dinner Night Out - Panago Pizza!
DESCRIPTION:
URL:https://edgewoodpac.ca/event/dinner-night-out-panago-pizza/
END:VEVENT
BEGIN:VEVENT
DTSTART;VALUE=DATE:20220209
DTEND;VALUE=DATE:20220210
DTSTAMP:20260423T153634
CREATED:20211203T232004Z
LAST-MODIFIED:20211203T232004Z
UID:1438-1644364800-1644451199@edgewoodpac.ca
SUMMARY:Hot Lunch Day!
DESCRIPTION:
URL:https://edgewoodpac.ca/event/hot-lunch-day-9/
END:VEVENT
BEGIN:VEVENT
DTSTART;VALUE=DATE:20220204
DTEND;VALUE=DATE:20220205
DTSTAMP:20260423T153634
CREATED:20211203T231701Z
LAST-MODIFIED:20211203T231701Z
UID:1436-1643932800-1644019199@edgewoodpac.ca
SUMMARY:Hot Lunch Day!
DESCRIPTION:
URL:https://edgewoodpac.ca/event/hot-lunch-day-8/
END:VEVENT
BEGIN:VEVENT
DTSTART;VALUE=DATE:20220126
DTEND;VALUE=DATE:20220127
DTSTAMP:20260423T153634
CREATED:20211203T231645Z
LAST-MODIFIED:20211203T231645Z
UID:1434-1643155200-1643241599@edgewoodpac.ca
SUMMARY:Hot Lunch Day!
DESCRIPTION:
URL:https://edgewoodpac.ca/event/hot-lunch-day-7/
END:VEVENT
BEGIN:VEVENT
DTSTART;VALUE=DATE:20220121
DTEND;VALUE=DATE:20220122
DTSTAMP:20260423T153634
CREATED:20211203T231631Z
LAST-MODIFIED:20211203T231631Z
UID:1432-1642723200-1642809599@edgewoodpac.ca
SUMMARY:Hot Lunch Day!
DESCRIPTION:
URL:https://edgewoodpac.ca/event/hot-lunch-day-6/
END:VEVENT
END:VCALENDAR