BEGIN:VCALENDAR
VERSION:2.0
PRODID:-//EWPAC - ECPv6.15.20//NONSGML v1.0//EN
CALSCALE:GREGORIAN
METHOD:PUBLISH
X-WR-CALNAME:EWPAC
X-ORIGINAL-URL:https://edgewoodpac.ca
X-WR-CALDESC:Events for EWPAC
REFRESH-INTERVAL;VALUE=DURATION:PT1H
X-Robots-Tag:noindex
X-PUBLISHED-TTL:PT1H
BEGIN:VTIMEZONE
TZID:America/Vancouver
BEGIN:DAYLIGHT
TZOFFSETFROM:-0800
TZOFFSETTO:-0700
TZNAME:PDT
DTSTART:20190310T100000
END:DAYLIGHT
BEGIN:STANDARD
TZOFFSETFROM:-0700
TZOFFSETTO:-0800
TZNAME:PST
DTSTART:20191103T090000
END:STANDARD
BEGIN:DAYLIGHT
TZOFFSETFROM:-0800
TZOFFSETTO:-0700
TZNAME:PDT
DTSTART:20200308T100000
END:DAYLIGHT
BEGIN:STANDARD
TZOFFSETFROM:-0700
TZOFFSETTO:-0800
TZNAME:PST
DTSTART:20201101T090000
END:STANDARD
BEGIN:DAYLIGHT
TZOFFSETFROM:-0800
TZOFFSETTO:-0700
TZNAME:PDT
DTSTART:20210314T100000
END:DAYLIGHT
BEGIN:STANDARD
TZOFFSETFROM:-0700
TZOFFSETTO:-0800
TZNAME:PST
DTSTART:20211107T090000
END:STANDARD
BEGIN:DAYLIGHT
TZOFFSETFROM:-0800
TZOFFSETTO:-0700
TZNAME:PDT
DTSTART:20220313T100000
END:DAYLIGHT
BEGIN:STANDARD
TZOFFSETFROM:-0700
TZOFFSETTO:-0800
TZNAME:PST
DTSTART:20221106T090000
END:STANDARD
END:VTIMEZONE
BEGIN:VEVENT
DTSTART;VALUE=DATE:20210322
DTEND;VALUE=DATE:20210327
DTSTAMP:20260424T022020
CREATED:20210311T160601Z
LAST-MODIFIED:20210311T160601Z
UID:504-1616371200-1616803199@edgewoodpac.ca
SUMMARY:Spring Break
DESCRIPTION:
URL:https://edgewoodpac.ca/event/spring-break-2/
LOCATION:British Columbia
END:VEVENT
BEGIN:VEVENT
DTSTART;VALUE=DATE:20210315
DTEND;VALUE=DATE:20210320
DTSTAMP:20260424T022020
CREATED:20210311T160434Z
LAST-MODIFIED:20210311T160532Z
UID:502-1615766400-1616198399@edgewoodpac.ca
SUMMARY:Spring Break
DESCRIPTION:
URL:https://edgewoodpac.ca/event/spring-break/
LOCATION:British Columbia
END:VEVENT
BEGIN:VEVENT
DTSTART;TZID=America/Vancouver:20210310T184500
DTEND;TZID=America/Vancouver:20210310T193000
DTSTAMP:20260424T022020
CREATED:20210306T044047Z
LAST-MODIFIED:20210403T212014Z
UID:481-1615401900-1615404600@edgewoodpac.ca
SUMMARY:March 10th General PAC Meeting!
DESCRIPTION:JOIN US ON ZOOM FOR OUR MARCH GENERAL PAC MEETING! \nTopics will include: \n\nKey updates from your PAC and Principal\nOpen Chequebook Fundraiser launch\nClass Parent Role Update\n\nPROPOSED AGENDA (link) – MARCH 10TH PAC MEETING AGENDA \n_________________________________________________________________________________________ \nJoin Zoom Meeting\nhttps://ca01web.zoom.us/j/65680872878?pwd=YXRLMmZZZW1iSVdlM2Z5M01tcTZGQT09 \nMeeting ID: 656 8087 2878\nPasscode: DWKE0#5b \n_________________________________________________________________________________________ \nHope you can join us!
URL:https://edgewoodpac.ca/event/march-10th-general-pac-meeting/
LOCATION:British Columbia
CATEGORIES:MEETINGS
END:VEVENT
BEGIN:VEVENT
DTSTART;VALUE=DATE:20210310
DTEND;VALUE=DATE:20210417
DTSTAMP:20260424T022020
CREATED:20210311T170030Z
LAST-MODIFIED:20210312T173852Z
UID:510-1615334400-1618617599@edgewoodpac.ca
SUMMARY:Open Cheque book Campaign
DESCRIPTION:View Campaign details \nFind out how to register here 
URL:https://edgewoodpac.ca/event/open-cheque-book-campaign/
LOCATION:British Columbia
END:VEVENT
BEGIN:VEVENT
DTSTART;TZID=America/Vancouver:20210304T163000
DTEND;TZID=America/Vancouver:20210304T193000
DTSTAMP:20260424T022020
CREATED:20210217T050734Z
LAST-MODIFIED:20210221T013359Z
UID:455-1614875400-1614886200@edgewoodpac.ca
SUMMARY:BLAZE PIZZA NIGHT
DESCRIPTION:ENJOY A PIZZA NIGHT WITH YOUR FAMILY WHILE SUPPORTING OUR SCHOOL AND PAC!  \nVisit the Blaze Pizza location at Grandview Corners (Across from Old Navy) on March 4 between 4:30PM and 7:30PM. \n20% of the total proceeds from the evening will be donated to our PAC. \nFor all the details\, check out this flyer – BLAZE PIZZA NIGHT FLYER \nPlease remember to bring the flyer with you to the restaurant (on your phone is fine) or use our PROMO CODE 1304A if ordering online.
URL:https://edgewoodpac.ca/event/blaze-pizza-night/
LOCATION:Blaze Pizza\, 2433 161a St #50\, Surrey\, British Columbia\, Canada
CATEGORIES:EVENTS
ATTACH;FMTTYPE=image/png:https://edgewoodpac.ca/wp-content/uploads/2021/02/Screen-Shot-2021-02-16-at-9.16.16-PM.png
END:VEVENT
BEGIN:VEVENT
DTSTART;TZID=America/Vancouver:20210210T184500
DTEND;TZID=America/Vancouver:20210210T193000
DTSTAMP:20260424T022020
CREATED:20210205T033900Z
LAST-MODIFIED:20210403T212020Z
UID:387-1612982700-1612985400@edgewoodpac.ca
SUMMARY:February 10th General PAC Meeting!
DESCRIPTION:JOIN US ON ZOOM FOR OUR FEBRUARY GENERAL PAC MEETING! \nTopics will include: \n\nKey updates from your PAC and Principal\nFundraising plans for 2021\nClass Parent Role\n2020/2021 PAC Budget\n\nPROPOSED AGENDA (link) – FEBRUARY 10 PAC MEETING AGENDA \n_________________________________________________________________________________________ \nJoin Zoom Meeting\nhttps://ca01web.zoom.us/j/65680872878?pwd=YXRLMmZZZW1iSVdlM2Z5M01tcTZGQT09 \nMeeting ID: 656 8087 2878\nPasscode: DWKE0#5b \n_________________________________________________________________________________________ \nHope you can join us! 🙂
URL:https://edgewoodpac.ca/event/february2021-pac-meeting/
LOCATION:British Columbia
CATEGORIES:MEETINGS
END:VEVENT
BEGIN:VEVENT
DTSTART;TZID=America/Vancouver:20210113T184500
DTEND;TZID=America/Vancouver:20210113T193000
DTSTAMP:20260424T022020
CREATED:20210101T193522Z
LAST-MODIFIED:20210108T201927Z
UID:243-1610563500-1610566200@edgewoodpac.ca
SUMMARY:JANUARY PAC MEETING
DESCRIPTION:JOIN US ON ZOOM FOR OUR FIRST MEETING OF 2021! \nTopics will include: \n\n\n\nTransition update from Principal Shaun Nelson\nVoting on our executive roles\nVoting on our constitution and bylaws document\nPAC goals for 2021\nFundraising goals and ideas for 2021 and beyond\n\n\n\nPROPOSED AGENDA – JANUARY 13 PAC MEETING AGENDA \n_________________________________________________________________________________________ \nJoin Zoom Meeting\nhttps://ca01web.zoom.us/j/66313960486?pwd=Q3RiaHhZWGE4YXhTL09XNE50a3VDdz09 \nMeeting ID: 663 1396 0486\nPasscode: y5DyFyv. \nOne tap mobile\n+16473744685\,\,66313960486#\,\,\,\,*64481079# Canada\n+16473752970\,\,66313960486#\,\,\,\,*64481079# Canada \nDial by your location\n+1 778 907 2071 Canada\nMeeting ID: 663 1396 0486\nPasscode: 64481079 \n_________________________________________________________________________________________ \nSee you all there 🙂
URL:https://edgewoodpac.ca/event/january2021-pac-meeting/
LOCATION:British Columbia
CATEGORIES:MEETINGS
ATTACH;FMTTYPE=image/jpeg:https://edgewoodpac.ca/wp-content/uploads/2020/11/timeforameet.jpg
END:VEVENT
BEGIN:VEVENT
DTSTART;TZID=America/Vancouver:20201209T184500
DTEND;TZID=America/Vancouver:20201209T193000
DTSTAMP:20260424T022020
CREATED:20201128T134955Z
LAST-MODIFIED:20201205T193222Z
UID:160-1607539500-1607542200@edgewoodpac.ca
SUMMARY:INAUGURAL EWPAC MEETING - INFORMATION SESSION
DESCRIPTION:JOIN US on ZOOM for our Inaugural EWPAC meeting!\nThis will be an information session sharing the progress we have made so far on forming our PAC and details about how to get involved! \nEdgewood Elementary is inviting you to a scheduled Zoom meeting. \nJoin Zoom Meeting\nhttps://ca01web.zoom.us/j/63651767779?pwd=TXNNTVA4eTVNQVJncDdYMjd3T2xOdz09 \nMeeting ID: 636 5176 7779\nPasscode: 8NcZ&Seh\nOne tap mobile\n+15873281099\,\,63651767779#\,\,\,\,\,\,0#\,\,31890203# Canada\n+16473744685\,\,63651767779#\,\,\,\,\,\,0#\,\,31890203# Canada \nDial by your location\n+1 778 907 2071 Canada\nMeeting ID: 636 5176 7779\nPasscode: 31890203 \nCHECK OUT THE PROPOSED AGENDA HERE -> EWPAC – AGENDA DEC 9\, 2020\nCHECK OUT THE PROPOSED BYLAW AND CONSTITUTION DOCUMENT -> PROPOSED BYLAWS & CONSTITUTION
URL:https://edgewoodpac.ca/event/inaugural-ewpac-meeting/
LOCATION:British Columbia
CATEGORIES:MEETINGS
ATTACH;FMTTYPE=image/jpeg:https://edgewoodpac.ca/wp-content/uploads/2020/11/timeforameet.jpg
END:VEVENT
END:VCALENDAR