BEGIN:VCALENDAR
VERSION:2.0
PRODID:-//EWPAC - ECPv6.15.20//NONSGML v1.0//EN
CALSCALE:GREGORIAN
METHOD:PUBLISH
X-ORIGINAL-URL:https://edgewoodpac.ca
X-WR-CALDESC:Events for EWPAC
REFRESH-INTERVAL;VALUE=DURATION:PT1H
X-Robots-Tag:noindex
X-PUBLISHED-TTL:PT1H
BEGIN:VTIMEZONE
TZID:America/Vancouver
BEGIN:DAYLIGHT
TZOFFSETFROM:-0800
TZOFFSETTO:-0700
TZNAME:PDT
DTSTART:20210314T100000
END:DAYLIGHT
BEGIN:STANDARD
TZOFFSETFROM:-0700
TZOFFSETTO:-0800
TZNAME:PST
DTSTART:20211107T090000
END:STANDARD
BEGIN:DAYLIGHT
TZOFFSETFROM:-0800
TZOFFSETTO:-0700
TZNAME:PDT
DTSTART:20220313T100000
END:DAYLIGHT
BEGIN:STANDARD
TZOFFSETFROM:-0700
TZOFFSETTO:-0800
TZNAME:PST
DTSTART:20221106T090000
END:STANDARD
BEGIN:DAYLIGHT
TZOFFSETFROM:-0800
TZOFFSETTO:-0700
TZNAME:PDT
DTSTART:20230312T100000
END:DAYLIGHT
BEGIN:STANDARD
TZOFFSETFROM:-0700
TZOFFSETTO:-0800
TZNAME:PST
DTSTART:20231105T090000
END:STANDARD
END:VTIMEZONE
BEGIN:VEVENT
DTSTART;TZID=America/Vancouver:20220914T183000
DTEND;TZID=America/Vancouver:20220914T193000
DTSTAMP:20260425T192857
CREATED:20220909T232051Z
LAST-MODIFIED:20220913T010556Z
UID:2545-1663180200-1663183800@edgewoodpac.ca
SUMMARY:PAC General Meeting
DESCRIPTION:Welcome to our first Parent Advisory Committee (PAC) Meeting! \nJoin us for our first meeting of the year! Our agenda includes information on the following topics: \n\nMeeting your new executive\nHot Lunch and Volunteer opportunities\nSpirit Wear\nLong Term Savings Plans\nOpen forum for questions\n\nLocation: Edgewood Elementary Gym \nWe will also be broadcasting this event on ZOOM!  Bare with us if there are any audio issues\, we will try to make the broadcast as technically sound as possible. \nClick the link to Join the Zoom Meeting\nhttps://zoom.us/j/91927182748?pwd=azVCeGNMSFM0clV1TmFhaXNueTlzUT09 \nOr manually join using the following details:\nMeeting ID: 919 2718 2748\nPasscode: 4cyYmD \nLooking forward to seeing you all there!
URL:https://edgewoodpac.ca/event/pac-general-meeting/
LOCATION:Edgewood Elementary Gym
CATEGORIES:MEETINGS
END:VEVENT
END:VCALENDAR