BEGIN:VCALENDAR
VERSION:2.0
PRODID:-//EWPAC - ECPv6.15.20//NONSGML v1.0//EN
CALSCALE:GREGORIAN
METHOD:PUBLISH
X-ORIGINAL-URL:https://edgewoodpac.ca
X-WR-CALDESC:Events for EWPAC
REFRESH-INTERVAL;VALUE=DURATION:PT1H
X-Robots-Tag:noindex
X-PUBLISHED-TTL:PT1H
BEGIN:VTIMEZONE
TZID:America/Vancouver
BEGIN:DAYLIGHT
TZOFFSETFROM:-0800
TZOFFSETTO:-0700
TZNAME:PDT
DTSTART:20230312T100000
END:DAYLIGHT
BEGIN:STANDARD
TZOFFSETFROM:-0700
TZOFFSETTO:-0800
TZNAME:PST
DTSTART:20231105T090000
END:STANDARD
BEGIN:DAYLIGHT
TZOFFSETFROM:-0800
TZOFFSETTO:-0700
TZNAME:PDT
DTSTART:20240310T100000
END:DAYLIGHT
BEGIN:STANDARD
TZOFFSETFROM:-0700
TZOFFSETTO:-0800
TZNAME:PST
DTSTART:20241103T090000
END:STANDARD
BEGIN:DAYLIGHT
TZOFFSETFROM:-0800
TZOFFSETTO:-0700
TZNAME:PDT
DTSTART:20250309T100000
END:DAYLIGHT
BEGIN:STANDARD
TZOFFSETFROM:-0700
TZOFFSETTO:-0800
TZNAME:PST
DTSTART:20251102T090000
END:STANDARD
END:VTIMEZONE
BEGIN:VEVENT
DTSTART;TZID=America/Vancouver:20240521T200000
DTEND;TZID=America/Vancouver:20240521T210000
DTSTAMP:20260424T135136
CREATED:20240521T195217Z
LAST-MODIFIED:20240521T195217Z
UID:3233-1716321600-1716325200@edgewoodpac.ca
SUMMARY:Edgewood PAC Annual General Meeting
DESCRIPTION:Join us for our PAC Annual General Meeting on Tuesday May 21st at 8:00PM on ZOOM! \nAgenda will include: ​\n– Principal’s Update\n– PAC President Update (Year in Review)\n– Treasurer Update (Budget)\n– Vote 2024/2025 PAC Executives\n– Fundraising Update\n– Open forum and More! \nJoin Zoom Meeting: https://zoom.us/j/98016447617?pwd=ZmJMRmsyT2c2NGo4akp4ZXNnM205QT09\n​Meeting ID: 980 1644 7617 ​\nPasscode: 343521 \nHope you can join us and we thank you for your continued support!
URL:https://edgewoodpac.ca/event/edgewood-pac-annual-general-meeting/
END:VEVENT
END:VCALENDAR