BEGIN:VCALENDAR
VERSION:2.0
PRODID:-//EWPAC - ECPv6.15.20//NONSGML v1.0//EN
CALSCALE:GREGORIAN
METHOD:PUBLISH
X-ORIGINAL-URL:https://edgewoodpac.ca
X-WR-CALDESC:Events for EWPAC
REFRESH-INTERVAL;VALUE=DURATION:PT1H
X-Robots-Tag:noindex
X-PUBLISHED-TTL:PT1H
BEGIN:VTIMEZONE
TZID:America/Vancouver
BEGIN:DAYLIGHT
TZOFFSETFROM:-0800
TZOFFSETTO:-0700
TZNAME:PDT
DTSTART:20240310T100000
END:DAYLIGHT
BEGIN:STANDARD
TZOFFSETFROM:-0700
TZOFFSETTO:-0800
TZNAME:PST
DTSTART:20241103T090000
END:STANDARD
BEGIN:DAYLIGHT
TZOFFSETFROM:-0800
TZOFFSETTO:-0700
TZNAME:PDT
DTSTART:20250309T100000
END:DAYLIGHT
BEGIN:STANDARD
TZOFFSETFROM:-0700
TZOFFSETTO:-0800
TZNAME:PST
DTSTART:20251102T090000
END:STANDARD
BEGIN:DAYLIGHT
TZOFFSETFROM:-0800
TZOFFSETTO:-0700
TZNAME:PDT
DTSTART:20260308T100000
END:DAYLIGHT
BEGIN:STANDARD
TZOFFSETFROM:-0700
TZOFFSETTO:-0800
TZNAME:PST
DTSTART:20261101T090000
END:STANDARD
END:VTIMEZONE
BEGIN:VEVENT
DTSTART;TZID=America/Vancouver:20251001T190000
DTEND;TZID=America/Vancouver:20251001T203000
DTSTAMP:20260423T150655
CREATED:20250915T025249Z
LAST-MODIFIED:20251003T035845Z
UID:3343-1759345200-1759350600@edgewoodpac.ca
SUMMARY:Edgewood PAC October General Meeting
DESCRIPTION:Join us for our October PAC General Meeting on Wednesday\, October 1st at 7:00PM on ZOOM! \nAgenda will include: ​\n1. Meet your PAC\n2. Principal’s Update\n3. Treasurer’s Update – Review and Vote on the 2025/2026 budget (Operating Budget & Gaming Budget)\n4. Fundraisers and Community Event Plans for 2025/2026\n5. Hot Lunch Update\n6. Ways to Volunteer Time: Oct 1\, 2025 07:00 PM Pacific Time (US and Canada) \n  \nJoin Zoom Meeting https://zoom.us/j/91328356383?pwd=KPW3GlsvQfn3DsAedSocfiF5fwKdpu.1\nMeeting ID: 913 2835 6383 Passcode: 663622 \nHope you can join us and we thank you for your continued support!
URL:https://edgewoodpac.ca/event/edgewood-pac-october-general-meeting/
END:VEVENT
BEGIN:VEVENT
DTSTART;TZID=America/Vancouver:20251015T181500
DTEND;TZID=America/Vancouver:20251015T203000
DTSTAMP:20260423T150655
CREATED:20250924T212840Z
LAST-MODIFIED:20251005T160932Z
UID:3355-1760552100-1760560200@edgewoodpac.ca
SUMMARY:Halloween Howl Dance
DESCRIPTION:The HALLOWEEN HOWL DANCE is back! \nJoin us with the most amazing DJ @rocknbeauparty on Oct 15 for one unforgettable night! Primary group (All ages welcome) 6:15-7:15pm Intermediate group (All ages welcome) 7:30-8:30pm Or both sessions 6:15-830pm. \nTickets will be $3 a session or $5 for both\, and can be purchased via your hot lunch account. Don’t wait to purchase as limited tickets are available per session! \n🥤Concession will be open with drinks and snacks \n🎟️ Fresh Cotton candy will be sold for $3 a bag \n⚠️School costume rules apply: No WEAPONS or MASK. Please ensure your child’s costume is appropriate and does not demean or belittle culture\, ethnicity\, gender or religion⚠️ \n👀We will be looking for LOTS of parent volunteers so please keep an eye out when the email/post comes out 👀 \n***Please note ALL attendees need a ticket. This includes parents. We need to keep track of capacity for safety reasons****
URL:https://edgewoodpac.ca/event/halloween-howl-dance/
END:VEVENT
BEGIN:VEVENT
DTSTART;TZID=America/Vancouver:20251020T080000
DTEND;TZID=America/Vancouver:20251020T170000
DTSTAMP:20260423T150655
CREATED:20260201T204518Z
LAST-MODIFIED:20260201T204518Z
UID:3621-1760947200-1760979600@edgewoodpac.ca
SUMMARY:Spirit Wear Orders Due
DESCRIPTION:Spirit Wear Orders are Due October 20th! \nClick HERE for ordering details!
URL:https://edgewoodpac.ca/event/spirit-wear-orders-due/
END:VEVENT
END:VCALENDAR